BEGIN:VCALENDAR
VERSION:2.0
METHOD:PUBLISH
BEGIN:VEVENT
UID:WILD_APRICOT_EVENT_3018991_SESSION_1
DTSTART:20181023T220000Z
DTEND:20181025T060000Z
SUMMARY:Women in Local Government Forum 2018
LOCATION:Hotel Grand Chancellor Brisbane\, 23 Leichardt Street (Corner of Wickham Terrace)\, Brisbane Qld 4000
DESCRIPTION:https://www.lgmaqld.org.au/event-3018991\n\n\n  \n\n  \n\nWouldn’t it be great to throw caution to the wind and peep through the looking glass at what local government’s future will look like?  In particular\, what the future of local government will look like through the lense of an ‘Alice’?\n \n The LGMA Queensland Women in Local Government Forum will invite you to explore how events of the past will shape the future of local government and equip you with the tools to become a dynamic\, affecting and empowering leader.   \n \n Develop confidence by facing your fears.  Grow and learn from those that have come before you and network with those who are there now.\n \n We invite you to take a trip down the rabbit hole with us this October.  \n\n  You will find the programme and registration form here.\n\n
DTSTAMP:20200301T082932Z
END:VEVENT
END:VCALENDAR
