BEGIN:VCALENDAR
VERSION:2.0
METHOD:PUBLISH
BEGIN:VEVENT
UID:WILD_APRICOT_EVENT_3671385_SESSION_1
DTSTART:20201006T223000Z
DTEND:20201008T060000Z
SUMMARY:LGMA Inspire Conference 7-8 Oct 2020
LOCATION:Hotel Grand Chancellor Brisbane
DESCRIPTION:https://www.lgmaqld.org.au/event-3671385\n\nInspire Conference - IMPACT\n   PROGRAMME:\n\n  Wednesday 7 October 2020:\n 8.30 am – 08.45 am Registration\n 08.45 am – 4.00 pm Conference\n 5.00 pm – 6.30 pm Networking Drinks and Nibbles\n \n Thursday 8 October 2020:\n 8.30 am – 08.45 am Registration\n 08.45 am – 4.00 pm Conference\n
DTSTAMP:20260424T155452Z
END:VEVENT
END:VCALENDAR
